View In:
ArcGIS JavaScript
ArcGIS Online Map Viewer
ArcGIS Earth
Service Description: Basemaps/Hillshade2024
Name: Basemaps/Hillshade2024
Description:
Single Fused Map Cache: false
Extent:
XMin: 1067551.5
YMin: 941778.0
XMax: 1189345.5
YMax: 1131276.0
Spatial Reference: 2927
(2927)
VCSWkid(105703)
LatestVCSWkid(6360)
Initial Extent:
XMin: 1067551.5
YMin: 941778.0
XMax: 1189345.5
YMax: 1131276.0
Spatial Reference: 2927
(2927)
VCSWkid(105703)
LatestVCSWkid(6360)
Full Extent:
XMin: 1067551.5
YMin: 941778.0
XMax: 1189345.5
YMax: 1131276.0
Spatial Reference: 2927
(2927)
VCSWkid(105703)
LatestVCSWkid(6360)
Pixel Size X: 6.0
Pixel Size Y: 6.0
Band Count: 1
Pixel Type: U8
RasterFunction Infos: {"rasterFunctionInfos": [{
"name": "None",
"description": "",
"help": ""
}]}
Mensuration Capabilities: Basic
Inspection Capabilities:
Has Histograms: true
Has Colormap: false
Has Multi Dimensions : false
Rendering Rule:
Min Scale: 0
Max Scale: 0
Copyright Text:
Service Data Type: esriImageServiceDataTypeGeneric
Min Values: 0
Max Values: 254
Mean Values: 156.87118246503465
Standard Deviation Values: 62.45208117442332
Object ID Field:
Fields:
None
Default Mosaic Method: Center
Allowed Mosaic Methods:
SortField:
SortValue: null
Mosaic Operator: First
Default Compression Quality: 75
Default Resampling Method: Bilinear
Max Record Count: null
Max Image Height: 4100
Max Image Width: 15000
Max Download Image Count: null
Max Mosaic Image Count: null
Allow Raster Function: true
Allow Copy: true
Allow Analysis: true
Allow Compute TiePoints: false
Supports Statistics: false
Supports Advanced Queries: false
Use StandardizedQueries: true
Raster Type Infos:
Name: Raster Dataset
Description: Supports all ArcGIS Raster Datasets
Help:
Has Raster Attribute Table: true
Edit Fields Info: null
Ownership Based AccessControl For Rasters: null
Child Resources:
Info
Raster Attribute Table
Histograms
Statistics
Key Properties
Legend
Raster Function Infos
Supported Operations:
Export Image
Identify
Measure
Compute Histograms
Compute Statistics Histograms
Get Samples
Compute Class Statistics
Query Boundary
Compute Pixel Location
Compute Angles
Validate
Project