<?xml version="1.0" encoding="UTF-8" standalone="no"?>
<metadata xml:lang="en">
<spdoinfo>
<rastinfo>
<rasttype>Pixel</rasttype>
<rowcount>12399</rowcount>
<colcount>6705</colcount>
<vrtcount>1</vrtcount>
<rastxsz Sync="TRUE">15.000000</rastxsz>
<rastysz Sync="TRUE">15.000000</rastysz>
<rastbpp Sync="TRUE">8</rastbpp>
<rastorig Sync="TRUE">Upper Left</rastorig>
<rastcmap Sync="TRUE">FALSE</rastcmap>
<rastcomp Sync="TRUE">LZ77</rastcomp>
<rastband Sync="TRUE">1</rastband>
<rastdtyp Sync="TRUE">pixel codes</rastdtyp>
<rastifor Sync="TRUE">SDR</rastifor>
<rastplyr Sync="TRUE">TRUE</rastplyr>
</rastinfo>
</spdoinfo>
<idinfo>
<spdom>
<bounding>
<westbc>-122.776883</westbc>
<eastbc>-122.347803</eastbc>
<northbc>48.414930</northbc>
<southbc>47.899025</southbc>
</bounding>
</spdom>
<citation>
<citeinfo>
<origin>Island County Public Works</origin>
<title>Hillshade</title>
<pubinfo>
<publish>Island County</publish>
<pubplace>Coupeville, WA</pubplace>
</pubinfo>
<pubdate>20150818</pubdate>
<onlink>file://\\IC07889\D$\Users\MattN\2015\Maps\Hillshade Build\HillshadeBuild.gdb</onlink>
</citeinfo>
</citation>
<keywords>
<theme>
<themekt>User</themekt>
<themekey>lidar</themekey>
</theme>
</keywords>
<descript>
<abstract>Grayscale shaded relief image of Island County. Prepared August 2015.</abstract>
<purpose>To be used as a cartographic backdrop for base maps. Not suitable for purposes of analysis - it si recommended that the original lidar data be used for analysis. Original lidar data was resampled to 15' cells, then smoothed using a focal mean method. Multidirectional hillshading techniques were then used to generate the image. For use as backdrop, it is recommended that a transparency of around 40% to 65% be used, and that the stretch type be set to "None".</purpose>
</descript>
<timeperd>
<current>Publication of feature based on time stamp</current>
<timeinfo>
<sngdate>
<caldate>20150818</caldate>
</sngdate>
</timeinfo>
</timeperd>
<status>
<progress>Complete</progress>
<update>notPlanned</update>
</status>
<accconst>None</accconst>
<useconst>None. Please check sources, scale, accuracy, currency and other available information. Please confirm that you are using the most recent copy of both data and metadata.</useconst>
</idinfo>
<spref>
<horizsys>
<planar>
<planci>
<plance>coordinate pair</plance>
<coordrep>
<absres>0.000000026366619998441372</absres>
<ordres>0.000000026366619998441372</ordres>
</coordrep>
<plandu>foot_us</plandu>
</planci>
</planar>
<geodetic>
<horizdn>D North American 1983</horizdn>
<ellips>GRS 1980</ellips>
<semiaxis>6378137.0</semiaxis>
<denflat>298.257222101</denflat>
</geodetic>
</horizsys>
</spref>
<dataqual>
<logic>Tests for integrity have not been performed.</logic>
<complete>Features represented have not been tested for completeness</complete>
<posacc>
<horizpa>
<horizpar>Data were collected using methods that are accurate to within 5 meters/15 feet</horizpar>
</horizpa>
</posacc>
</dataqual>
<distinfo>
<resdesc>Downloadable Data</resdesc>
<distliab>Public Works disclaimer - The following map is intended to be used as a GUIDE. Island County is providing this information as a general geographic representation that should not be used for precise measurements or calculations. Some of the features on this map are not accurately depicted. Any user of this map assumes all responsibility for use and agrees to hold Island County harmless for liability, damages, or loss incurred by use of this information. Specific questions should be directed to the Island County Public Works Department.</distliab>
</distinfo>
<metainfo>
<metd>20150818</metd>
<metfrd>20190818</metfrd>
<metstdn>FGDC Content Standard for Digital Geospatial Metadata</metstdn>
<metstdv>FGDC-STD-001-1998</metstdv>
</metainfo>
<dataIdInfo>
<envirDesc Sync="TRUE">Microsoft Windows 7 Version 6.1 (Build 7601) Service Pack 1; Esri ArcGIS 10.3.0.4322</envirDesc>
<dataLang>
<languageCode Sync="TRUE" value="eng"/>
<countryCode Sync="TRUE" value="USA"/>
</dataLang>
<idCitation>
<resTitle Sync="TRUE">HIllshade2014</resTitle>
<presForm>
<PresFormCd Sync="TRUE" value="011"/>
</presForm>
</idCitation>
<spatRpType>
<SpatRepTypCd Sync="TRUE" value="002"/>
</spatRpType>
<dataExt>
<geoEle>
<GeoBndBox esriExtentType="search">
<exTypeCode Sync="TRUE">1</exTypeCode>
<westBL Sync="TRUE">-122.776883</westBL>
<eastBL Sync="TRUE">-122.347803</eastBL>
<northBL Sync="TRUE">48.414930</northBL>
<southBL Sync="TRUE">47.899025</southBL>
</GeoBndBox>
</geoEle>
</dataExt>
<idAbs/>
<idPurp/>
<idCredit/>
<resConst>
<Consts>
<useLimit/>
</Consts>
</resConst>
</dataIdInfo>
<mdLang>
<languageCode Sync="TRUE" value="eng"/>
<countryCode Sync="TRUE" value="USA"/>
</mdLang>
<Esri>
<DataProperties>
<itemProps>
<itemName Sync="TRUE">sdeprod.ICGIS.HIllshade</itemName>
<imsContentType Sync="TRUE">002</imsContentType>
<nativeExtBox>
<westBL Sync="TRUE">1168413.000063</westBL>
<eastBL Sync="TRUE">1268988.000063</eastBL>
<southBL Sync="TRUE">333838.275118</southBL>
<northBL Sync="TRUE">519823.275118</northBL>
<exTypeCode Sync="TRUE">1</exTypeCode>
</nativeExtBox>
<itemLocation>
<linkage Sync="TRUE">Server=canvdbgisdb; Service=sde:sqlserver:canvdbgisdb; Database=sdeprod; User=icgis; Version=sde.DEFAULT</linkage>
<protocol Sync="TRUE">ArcSDE Connection</protocol>
</itemLocation>
</itemProps>
<coordRef>
<type Sync="TRUE">Projected</type>
<geogcsn Sync="TRUE">GCS_North_American_1983</geogcsn>
<csUnits Sync="TRUE">Linear Unit: Foot_US (0.304801)</csUnits>
<projcsn Sync="TRUE">NAD_1983_StatePlane_Washington_North_FIPS_4601_Feet</projcsn>
<peXml Sync="TRUE">&lt;ProjectedCoordinateSystem xsi:type='typens:ProjectedCoordinateSystem' xmlns:xsi='http://www.w3.org/2001/XMLSchema-instance' xmlns:xs='http://www.w3.org/2001/XMLSchema' xmlns:typens='http://www.esri.com/schemas/ArcGIS/10.3'&gt;&lt;WKT&gt;PROJCS[&amp;quot;NAD_1983_StatePlane_Washington_North_FIPS_4601_Feet&amp;quot;,GEOGCS[&amp;quot;GCS_North_American_1983&amp;quot;,DATUM[&amp;quot;D_North_American_1983&amp;quot;,SPHEROID[&amp;quot;GRS_1980&amp;quot;,6378137.0,298.257222101]],PRIMEM[&amp;quot;Greenwich&amp;quot;,0.0],UNIT[&amp;quot;Degree&amp;quot;,0.0174532925199433]],PROJECTION[&amp;quot;Lambert_Conformal_Conic&amp;quot;],PARAMETER[&amp;quot;False_Easting&amp;quot;,1640416.666666667],PARAMETER[&amp;quot;False_Northing&amp;quot;,0.0],PARAMETER[&amp;quot;Central_Meridian&amp;quot;,-120.8333333333333],PARAMETER[&amp;quot;Standard_Parallel_1&amp;quot;,47.5],PARAMETER[&amp;quot;Standard_Parallel_2&amp;quot;,48.73333333333333],PARAMETER[&amp;quot;Latitude_Of_Origin&amp;quot;,47.0],UNIT[&amp;quot;Foot_US&amp;quot;,0.3048006096012192],AUTHORITY[&amp;quot;EPSG&amp;quot;,2285]]&lt;/WKT&gt;&lt;XOrigin&gt;-117104300&lt;/XOrigin&gt;&lt;YOrigin&gt;-99539600&lt;/YOrigin&gt;&lt;XYScale&gt;37926742.22403606&lt;/XYScale&gt;&lt;ZOrigin&gt;-100000&lt;/ZOrigin&gt;&lt;ZScale&gt;10000&lt;/ZScale&gt;&lt;MOrigin&gt;-100000&lt;/MOrigin&gt;&lt;MScale&gt;10000&lt;/MScale&gt;&lt;XYTolerance&gt;0.0032808333333333331&lt;/XYTolerance&gt;&lt;ZTolerance&gt;0.00020000000000000001&lt;/ZTolerance&gt;&lt;MTolerance&gt;0.00020000000000000001&lt;/MTolerance&gt;&lt;HighPrecision&gt;true&lt;/HighPrecision&gt;&lt;WKID&gt;102748&lt;/WKID&gt;&lt;LatestWKID&gt;2285&lt;/LatestWKID&gt;&lt;/ProjectedCoordinateSystem&gt;</peXml>
</coordRef>
</DataProperties>
<SyncDate>20150825</SyncDate>
<SyncTime>08155200</SyncTime>
<ModDate>20150825</ModDate>
<ModTime>08155200</ModTime>
</Esri>
<distInfo>
<distFormat>
<formatName Sync="TRUE">SDE Raster Dataset</formatName>
</distFormat>
</distInfo>
<mdHrLv>
<ScopeCd Sync="TRUE" value="005"/>
</mdHrLv>
<mdHrLvName Sync="TRUE">dataset</mdHrLvName>
<refSysInfo>
<RefSystem>
<refSysID>
<identCode Sync="TRUE" code="2285"/>
<idCodeSpace Sync="TRUE">EPSG</idCodeSpace>
<idVersion Sync="TRUE">8.2.6</idVersion>
</refSysID>
</RefSystem>
</refSysInfo>
<mdDateSt Sync="TRUE">20150825</mdDateSt>
</metadata>
